BEGIN:VCALENDAR
VERSION:2.0
PRODID:-//wp-events-plugin.com//7.2.3.1//EN
TZID:Europe/Madrid
X-WR-TIMEZONE:Europe/Madrid
BEGIN:VEVENT
UID:1@aprocom.org
DTSTART;TZID=Europe/Madrid:20250325T100000
DTEND;TZID=Europe/Madrid:20250325T120000
DTSTAMP:20250323T123539Z
URL:https://aprocom.org/events/asamblea-general-aprocom-2025/
SUMMARY:Asamblea General Aprocom 2025
DESCRIPTION:Asamblea General Ordinaria de la Confederación Provincial de C
 omercio\, Servicios y Autónomos de Sevilla (APROCOM)\, que se celebrará 
 el próximo día 25 de marzo de 2025\, martes\, en la Confitería Ochoa\, 
 c /Sierpes\, 45\, Salón primera planta\, a las 10.00 h\, para tratar el o
 rden del día que se adjunta
CATEGORIES:Aprocom
LOCATION:https://maps.app.goo.gl/Wznzxj7BMDTaHrgp8
END:VEVENT
BEGIN:VTIMEZONE
TZID:Europe/Madrid
X-LIC-LOCATION:Europe/Madrid
BEGIN:STANDARD
DTSTART:20241027T020000
TZOFFSETFROM:+0200
TZOFFSETTO:+0100
TZNAME:CET
END:STANDARD
END:VTIMEZONE
END:VCALENDAR