BEGIN:VCALENDAR
VERSION:2.0
PRODID:-//wp-events-plugin.com//7.2.3.1//EN
TZID:Europe/Madrid
X-WR-TIMEZONE:Europe/Madrid
BEGIN:VEVENT
UID:42@aprocom.org
DTSTART;TZID=Europe/Madrid:20260422T000000
DTEND;TZID=Europe/Madrid:20260422T000000
DTSTAMP:20260102T114830Z
URL:https://aprocom.org/events/miercoles-de-feria/
SUMMARY:Miércoles de Feria
DESCRIPTION:
CATEGORIES:Festivos
END:VEVENT
BEGIN:VTIMEZONE
TZID:Europe/Madrid
X-LIC-LOCATION:Europe/Madrid
BEGIN:DAYLIGHT
DTSTART:20260329T030000
TZOFFSETFROM:+0100
TZOFFSETTO:+0200
TZNAME:CEST
END:DAYLIGHT
END:VTIMEZONE
END:VCALENDAR